BEGIN:VCALENDAR
VERSION:2.0
PRODID:-//Dorfverein Menz - ECPv6.15.18//NONSGML v1.0//EN
CALSCALE:GREGORIAN
METHOD:PUBLISH
X-ORIGINAL-URL:https://dorfverein-menz.de
X-WR-CALDESC:Veranstaltungen für Dorfverein Menz
REFRESH-INTERVAL;VALUE=DURATION:PT1H
X-Robots-Tag:noindex
X-PUBLISHED-TTL:PT1H
BEGIN:VTIMEZONE
TZID:Europe/Berlin
BEGIN:DAYLIGHT
TZOFFSETFROM:+0100
TZOFFSETTO:+0200
TZNAME:CEST
DTSTART:20190331T010000
END:DAYLIGHT
BEGIN:STANDARD
TZOFFSETFROM:+0200
TZOFFSETTO:+0100
TZNAME:CET
DTSTART:20191027T010000
END:STANDARD
BEGIN:DAYLIGHT
TZOFFSETFROM:+0100
TZOFFSETTO:+0200
TZNAME:CEST
DTSTART:20200329T010000
END:DAYLIGHT
BEGIN:STANDARD
TZOFFSETFROM:+0200
TZOFFSETTO:+0100
TZNAME:CET
DTSTART:20201025T010000
END:STANDARD
BEGIN:DAYLIGHT
TZOFFSETFROM:+0100
TZOFFSETTO:+0200
TZNAME:CEST
DTSTART:20210328T010000
END:DAYLIGHT
BEGIN:STANDARD
TZOFFSETFROM:+0200
TZOFFSETTO:+0100
TZNAME:CET
DTSTART:20211031T010000
END:STANDARD
END:VTIMEZONE
BEGIN:VEVENT
DTSTART;TZID=Europe/Berlin:20201118T193000
DTEND;TZID=Europe/Berlin:20201118T210000
DTSTAMP:20260421T182401
CREATED:20201023T123357Z
LAST-MODIFIED:20201030T094110Z
UID:5697-1605727800-1605733200@dorfverein-menz.de
SUMMARY:Offene Menzer Singgruppe - Weihnachtslieder muß leider entfallen!!!
DESCRIPTION:Jeder kann mitsingen!\nWarm anziehen – es wird im gut gelüfteten Saal der Regionalwerkstatt am Friedensplatz gesungen!\nWir singen mit Gitarrenbegleitung die folgenden Weihnachtslieder:  \n\nAm Weihnachtsbaume\, die Lichter brennen\nBald nun ist Weihnachtszeit\nEs ist ein Ros entsprungen\nFröhliche Weihnacht überall\nGuten Abend schön Abend\nWeihnachtsbäckerei\nLiese rieselt der Schnee\nSind die Lichter angezündet\nSüßer die Glocken nie klingen\nVorfreude schönste Freude\nWandern durch den Winterwald\nLasst uns froh und munter sein
URL:https://dorfverein-menz.de/event/offene-menzer-singgruppe-weihnachtslieder/
LOCATION:Regionalwerkstatt\, Friedensplatz 9\, Stechlin-Menz\, 16775\, Deutschland
CATEGORIES:Alt & Jung
ATTACH;FMTTYPE=image/jpeg:https://dorfverein-menz.de/wp-content/uploads/2019/12/Weihnachtsbaum-2019-9-scaled.jpg
END:VEVENT
END:VCALENDAR