BEGIN:VCALENDAR
VERSION:2.0
PRODID:-//Dorfverein Menz - ECPv6.15.18//NONSGML v1.0//EN
CALSCALE:GREGORIAN
METHOD:PUBLISH
X-ORIGINAL-URL:https://dorfverein-menz.de
X-WR-CALDESC:Veranstaltungen für Dorfverein Menz
REFRESH-INTERVAL;VALUE=DURATION:PT1H
X-Robots-Tag:noindex
X-PUBLISHED-TTL:PT1H
BEGIN:VTIMEZONE
TZID:Europe/Berlin
BEGIN:DAYLIGHT
TZOFFSETFROM:+0100
TZOFFSETTO:+0200
TZNAME:CEST
DTSTART:20250330T010000
END:DAYLIGHT
BEGIN:STANDARD
TZOFFSETFROM:+0200
TZOFFSETTO:+0100
TZNAME:CET
DTSTART:20251026T010000
END:STANDARD
BEGIN:DAYLIGHT
TZOFFSETFROM:+0100
TZOFFSETTO:+0200
TZNAME:CEST
DTSTART:20260329T010000
END:DAYLIGHT
BEGIN:STANDARD
TZOFFSETFROM:+0200
TZOFFSETTO:+0100
TZNAME:CET
DTSTART:20261025T010000
END:STANDARD
BEGIN:DAYLIGHT
TZOFFSETFROM:+0100
TZOFFSETTO:+0200
TZNAME:CEST
DTSTART:20270328T010000
END:DAYLIGHT
BEGIN:STANDARD
TZOFFSETFROM:+0200
TZOFFSETTO:+0100
TZNAME:CET
DTSTART:20271031T010000
END:STANDARD
BEGIN:DAYLIGHT
TZOFFSETFROM:+0100
TZOFFSETTO:+0200
TZNAME:CEST
DTSTART:20280326T010000
END:DAYLIGHT
BEGIN:STANDARD
TZOFFSETFROM:+0200
TZOFFSETTO:+0100
TZNAME:CET
DTSTART:20281029T010000
END:STANDARD
END:VTIMEZONE
BEGIN:VEVENT
DTSTART;TZID=Europe/Berlin:20261002T190000
DTEND;TZID=Europe/Berlin:20261002T210000
DTSTAMP:20260420T143440
CREATED:20260203T155845Z
LAST-MODIFIED:20260203T155845Z
UID:12353-1790967600-1790974800@dorfverein-menz.de
SUMMARY:Rommé\, Skat und Co.
DESCRIPTION:
URL:https://dorfverein-menz.de/event/romme-skat-und-co-28/
LOCATION:Heimatschule Menz\, Schulplatz 1\, Stechlin-Menz\, 16775\, Deutschland
CATEGORIES:Alt & Jung
ATTACH;FMTTYPE=image/jpeg:https://dorfverein-menz.de/wp-content/uploads/2019/01/Heimatschule_kklein-6.jpg
END:VEVENT
BEGIN:VEVENT
DTSTART;TZID=Europe/Berlin:20261009T180000
DTEND;TZID=Europe/Berlin:20261009T200000
DTSTAMP:20260420T143440
CREATED:20260203T160736Z
LAST-MODIFIED:20260203T160736Z
UID:12369-1791568800-1791576000@dorfverein-menz.de
SUMMARY:Offener Stammtisch
DESCRIPTION:
URL:https://dorfverein-menz.de/event/offener-stammtisch-18/
LOCATION:Heimatschule Menz\, Schulplatz 1\, Stechlin-Menz\, 16775\, Deutschland
CATEGORIES:Alt & Jung
ATTACH;FMTTYPE=image/jpeg:https://dorfverein-menz.de/wp-content/uploads/2019/01/Heimatschule_kklein-6.jpg
END:VEVENT
BEGIN:VEVENT
DTSTART;TZID=Europe/Berlin:20261010T100000
DTEND;TZID=Europe/Berlin:20261010T120000
DTSTAMP:20260420T143440
CREATED:20260207T150314Z
LAST-MODIFIED:20260207T150314Z
UID:12435-1791626400-1791633600@dorfverein-menz.de
SUMMARY:Das große 2. Stechliner Drachenfest in Menz an der Stege
DESCRIPTION:Eingeladen sind Groß und Klein\, Jund und Alt und alle dazwischen\, die Lust am Drachensteigen haben! \nEs sollen zwei unterhaltsame Stunden werden\, bei denen man gemeinsam über das Drachenbauen und den besten Wind fachsimpeln kann.
URL:https://dorfverein-menz.de/event/das-grosse-2-stechliner-drachenfest-in-menz-an-der-stege/
LOCATION:Streuobstwiese Menz\, Gartenweg\, Stechlin-Menz\, 16775\, Deutschland
CATEGORIES:Alt & Jung
ATTACH;FMTTYPE=image/jpeg:https://dorfverein-menz.de/wp-content/uploads/2025/10/Drachen-1.jpg
END:VEVENT
BEGIN:VEVENT
DTSTART;TZID=Europe/Berlin:20261013T190000
DTEND;TZID=Europe/Berlin:20261013T203000
DTSTAMP:20260420T143440
CREATED:20260202T175316Z
LAST-MODIFIED:20260202T175316Z
UID:12309-1791918000-1791923400@dorfverein-menz.de
SUMMARY:Offene Menzer Singgruppe: Advents- und Weihnachtslieder
DESCRIPTION:
URL:https://dorfverein-menz.de/event/offene-menzer-singgruppe-advents-und-weihnachtslieder-4/
LOCATION:Heimatschule Menz\, Schulplatz 1\, Stechlin-Menz\, 16775\, Deutschland
CATEGORIES:Alt & Jung
ATTACH;FMTTYPE=image/jpeg:https://dorfverein-menz.de/wp-content/uploads/2023/12/Weihnachtsbaum_2023-8-e1703331558301.jpg
END:VEVENT
BEGIN:VEVENT
DTSTART;TZID=Europe/Berlin:20261016T190000
DTEND;TZID=Europe/Berlin:20261016T210000
DTSTAMP:20260420T143440
CREATED:20260203T162453Z
LAST-MODIFIED:20260203T162453Z
UID:12385-1792177200-1792184400@dorfverein-menz.de
SUMMARY:Spieleabend “EiNFach Mal AndERs“
DESCRIPTION:
URL:https://dorfverein-menz.de/event/spieleabend-einfach-mal-anders-24/
LOCATION:Heimatschule Menz\, Schulplatz 1\, Stechlin-Menz\, 16775\, Deutschland
CATEGORIES:Alt & Jung
ATTACH;FMTTYPE=image/jpeg:https://dorfverein-menz.de/wp-content/uploads/2019/01/Heimatschule_kklein-6.jpg
END:VEVENT
BEGIN:VEVENT
DTSTART;TZID=Europe/Berlin:20261017T100000
DTEND;TZID=Europe/Berlin:20261017T150000
DTSTAMP:20260420T143440
CREATED:20260202T172153Z
LAST-MODIFIED:20260202T172153Z
UID:12268-1792231200-1792249200@dorfverein-menz.de
SUMMARY:Die Experimentierküche -auf dem Menzer Apfeltag!
DESCRIPTION:
URL:https://dorfverein-menz.de/event/die-experimentierkueche-auf-dem-menzer-apfeltag/
LOCATION:Regionalwerkstatt\, Friedensplatz 9\, Stechlin-Menz\, 16775\, Deutschland
CATEGORIES:Dorfküche
ATTACH;FMTTYPE=image/jpeg:https://dorfverein-menz.de/wp-content/uploads/2025/10/20251017_200509-scaled-e1761293340750.jpg
END:VEVENT
BEGIN:VEVENT
DTSTART;TZID=Europe/Berlin:20261017T100000
DTEND;TZID=Europe/Berlin:20261017T150000
DTSTAMP:20260420T143440
CREATED:20260207T150709Z
LAST-MODIFIED:20260207T150709Z
UID:12437-1792231200-1792249200@dorfverein-menz.de
SUMMARY:Dorfvereinsstand auf dem Apfeltag
DESCRIPTION:
URL:https://dorfverein-menz.de/event/dorfvereinsstand-auf-dem-apfeltag-2/
LOCATION:Regionalwerkstatt\, Friedensplatz 9\, Stechlin-Menz\, 16775\, Deutschland
CATEGORIES:Alt & Jung,Kultur
ATTACH;FMTTYPE=image/jpeg:https://dorfverein-menz.de/wp-content/uploads/2025/10/20251018_104735-scaled.jpg
END:VEVENT
BEGIN:VEVENT
DTSTART;TZID=Europe/Berlin:20261020T150000
DTEND;TZID=Europe/Berlin:20261020T170000
DTSTAMP:20260420T143440
CREATED:20260202T174513Z
LAST-MODIFIED:20260202T174513Z
UID:12295-1792508400-1792515600@dorfverein-menz.de
SUMMARY:Schwatzen bei Kaffee & Tee im Dorfcafé - Thema wird noch bekannt gegeben!
DESCRIPTION:
URL:https://dorfverein-menz.de/event/schwatzen-bei-kaffee-tee-im-dorfcafe-thema-wird-noch-bekannt-gegeben-5/
LOCATION:Heimatschule Menz\, Schulplatz 1\, Stechlin-Menz\, 16775\, Deutschland
CATEGORIES:Alt & Jung,Dies & Das
ATTACH;FMTTYPE=image/jpeg:https://dorfverein-menz.de/wp-content/uploads/2019/01/Heimatschule_kklein-6.jpg
END:VEVENT
BEGIN:VEVENT
DTSTART;TZID=Europe/Berlin:20261021T190000
DTEND;TZID=Europe/Berlin:20261021T210000
DTSTAMP:20260420T143440
CREATED:20260203T154012Z
LAST-MODIFIED:20260203T154012Z
UID:12323-1792609200-1792616400@dorfverein-menz.de
SUMMARY:Dorfkino: Film wird noch bekannt gegeben!
DESCRIPTION:
URL:https://dorfverein-menz.de/event/dorfkino-film-wird-noch-bekannt-gegeben-5/
LOCATION:Heimatschule Menz\, Schulplatz 1\, Stechlin-Menz\, 16775\, Deutschland
CATEGORIES:Dorfkino
ATTACH;FMTTYPE=image/jpeg:https://dorfverein-menz.de/wp-content/uploads/2019/01/Heimatschule_kklein-6.jpg
END:VEVENT
BEGIN:VEVENT
DTSTART;TZID=Europe/Berlin:20261024T190000
DTEND;TZID=Europe/Berlin:20261024T210000
DTSTAMP:20260420T143440
CREATED:20260203T154750Z
LAST-MODIFIED:20260203T154750Z
UID:12337-1792868400-1792875600@dorfverein-menz.de
SUMMARY:Klubkino: Film wird noch bekannt gegeben!
DESCRIPTION:
URL:https://dorfverein-menz.de/event/klubkino-film-wird-noch-bekannt-gegeben-5/
LOCATION:Heimatschule Menz\, Schulplatz 1\, Stechlin-Menz\, 16775\, Deutschland
CATEGORIES:Dorfkino
ATTACH;FMTTYPE=image/jpeg:https://dorfverein-menz.de/wp-content/uploads/2019/01/Heimatschule_kklein-6.jpg
END:VEVENT
BEGIN:VEVENT
DTSTART;TZID=Europe/Berlin:20261030T190000
DTEND;TZID=Europe/Berlin:20261030T210000
DTSTAMP:20260420T143440
CREATED:20260202T173516Z
LAST-MODIFIED:20260202T173516Z
UID:12283-1793386800-1793394000@dorfverein-menz.de
SUMMARY:Literarisches Kabinett - Thema wird noch bekannt gegeben!
DESCRIPTION:
URL:https://dorfverein-menz.de/event/literarisches-kabinett-thema-wird-noch-bekannt-gegeben-6/
LOCATION:Heimatschule Menz\, Schulplatz 1\, Stechlin-Menz\, 16775\, Deutschland
CATEGORIES:Kultur,Literatur
ATTACH;FMTTYPE=image/jpeg:https://dorfverein-menz.de/wp-content/uploads/2018/12/Bücher-1.jpg
END:VEVENT
BEGIN:VEVENT
DTSTART;TZID=Europe/Berlin:20261106T190000
DTEND;TZID=Europe/Berlin:20261106T210000
DTSTAMP:20260420T143440
CREATED:20260203T155947Z
LAST-MODIFIED:20260203T155947Z
UID:12355-1793991600-1793998800@dorfverein-menz.de
SUMMARY:Rommé\, Skat und Co.
DESCRIPTION:
URL:https://dorfverein-menz.de/event/romme-skat-und-co-29/
LOCATION:Heimatschule Menz\, Schulplatz 1\, Stechlin-Menz\, 16775\, Deutschland
CATEGORIES:Alt & Jung
ATTACH;FMTTYPE=image/jpeg:https://dorfverein-menz.de/wp-content/uploads/2019/01/Heimatschule_kklein-6.jpg
END:VEVENT
BEGIN:VEVENT
DTSTART;TZID=Europe/Berlin:20261110T190000
DTEND;TZID=Europe/Berlin:20261110T203000
DTSTAMP:20260420T143440
CREATED:20260202T175407Z
LAST-MODIFIED:20260202T175407Z
UID:12311-1794337200-1794342600@dorfverein-menz.de
SUMMARY:Offene Menzer Singgruppe: Advents- und Weihnachtslieder
DESCRIPTION:
URL:https://dorfverein-menz.de/event/offene-menzer-singgruppe-advents-und-weihnachtslieder-5/
LOCATION:Heimatschule Menz\, Schulplatz 1\, Stechlin-Menz\, 16775\, Deutschland
CATEGORIES:Alt & Jung
ATTACH;FMTTYPE=image/jpeg:https://dorfverein-menz.de/wp-content/uploads/2023/12/Weihnachtsbaum_2023-8-e1703331558301.jpg
END:VEVENT
BEGIN:VEVENT
DTSTART;TZID=Europe/Berlin:20261113T150000
DTEND;TZID=Europe/Berlin:20261113T180000
DTSTAMP:20260420T143440
CREATED:20260202T170938Z
LAST-MODIFIED:20260202T170938Z
UID:12257-1794582000-1794592800@dorfverein-menz.de
SUMMARY:Die Menzer Kochinitiative kocht für den Stammtisch
DESCRIPTION:
URL:https://dorfverein-menz.de/event/die-menzer-kochinitiative-kocht-fuer-den-stammtisch-3/
LOCATION:Heimatschule Menz\, Schulplatz 1\, Stechlin-Menz\, 16775\, Deutschland
CATEGORIES:Dorfküche
ATTACH;FMTTYPE=image/jpeg:https://dorfverein-menz.de/wp-content/uploads/2024/09/20240913_184634-scaled-e1726306441312.jpg
END:VEVENT
BEGIN:VEVENT
DTSTART;TZID=Europe/Berlin:20261113T180000
DTEND;TZID=Europe/Berlin:20261113T200000
DTSTAMP:20260420T143440
CREATED:20260203T160829Z
LAST-MODIFIED:20260203T160829Z
UID:12371-1794592800-1794600000@dorfverein-menz.de
SUMMARY:Offener Stammtisch
DESCRIPTION:
URL:https://dorfverein-menz.de/event/offener-stammtisch-19/
LOCATION:Heimatschule Menz\, Schulplatz 1\, Stechlin-Menz\, 16775\, Deutschland
CATEGORIES:Alt & Jung
ATTACH;FMTTYPE=image/jpeg:https://dorfverein-menz.de/wp-content/uploads/2019/01/Heimatschule_kklein-6.jpg
END:VEVENT
BEGIN:VEVENT
DTSTART;TZID=Europe/Berlin:20261117T150000
DTEND;TZID=Europe/Berlin:20261117T170000
DTSTAMP:20260420T143440
CREATED:20260202T174612Z
LAST-MODIFIED:20260202T174612Z
UID:12297-1794927600-1794934800@dorfverein-menz.de
SUMMARY:Schwatzen bei Kaffee & Tee im Dorfcafé - Thema wird noch bekannt gegeben!
DESCRIPTION:
URL:https://dorfverein-menz.de/event/schwatzen-bei-kaffee-tee-im-dorfcafe-thema-wird-noch-bekannt-gegeben-6/
LOCATION:Heimatschule Menz\, Schulplatz 1\, Stechlin-Menz\, 16775\, Deutschland
CATEGORIES:Alt & Jung,Dies & Das
ATTACH;FMTTYPE=image/jpeg:https://dorfverein-menz.de/wp-content/uploads/2019/01/Heimatschule_kklein-6.jpg
END:VEVENT
BEGIN:VEVENT
DTSTART;TZID=Europe/Berlin:20261118T190000
DTEND;TZID=Europe/Berlin:20261118T210000
DTSTAMP:20260420T143440
CREATED:20260203T154109Z
LAST-MODIFIED:20260203T154109Z
UID:12325-1795028400-1795035600@dorfverein-menz.de
SUMMARY:Dorfkino: Film wird noch bekannt gegeben!
DESCRIPTION:
URL:https://dorfverein-menz.de/event/dorfkino-film-wird-noch-bekannt-gegeben-6/
LOCATION:Heimatschule Menz\, Schulplatz 1\, Stechlin-Menz\, 16775\, Deutschland
CATEGORIES:Dorfkino
ATTACH;FMTTYPE=image/jpeg:https://dorfverein-menz.de/wp-content/uploads/2019/01/Heimatschule_kklein-6.jpg
END:VEVENT
BEGIN:VEVENT
DTSTART;TZID=Europe/Berlin:20261120T190000
DTEND;TZID=Europe/Berlin:20261120T210000
DTSTAMP:20260420T143440
CREATED:20260203T162541Z
LAST-MODIFIED:20260203T162541Z
UID:12387-1795201200-1795208400@dorfverein-menz.de
SUMMARY:Spieleabend “EiNFach Mal AndERs“
DESCRIPTION:
URL:https://dorfverein-menz.de/event/spieleabend-einfach-mal-anders-25/
LOCATION:Heimatschule Menz\, Schulplatz 1\, Stechlin-Menz\, 16775\, Deutschland
CATEGORIES:Alt & Jung
ATTACH;FMTTYPE=image/jpeg:https://dorfverein-menz.de/wp-content/uploads/2019/01/Heimatschule_kklein-6.jpg
END:VEVENT
BEGIN:VEVENT
DTSTART;TZID=Europe/Berlin:20261121T150000
DTEND;TZID=Europe/Berlin:20261121T170000
DTSTAMP:20260420T143440
CREATED:20260207T151006Z
LAST-MODIFIED:20260207T151006Z
UID:12439-1795273200-1795280400@dorfverein-menz.de
SUMMARY:Advents- und Weihnachtsbastlen
DESCRIPTION:Alle Kleinen und großen Junggebliebenen basteln gemeinsam in der Heimatschule für die Advents- und Weihnachtszeit! \nKaffee und Kuchen ist garantiert!
URL:https://dorfverein-menz.de/event/advents-und-weihnachtsbastlen/
LOCATION:Heimatschule Menz\, Schulplatz 1\, Stechlin-Menz\, 16775\, Deutschland
CATEGORIES:Alt & Jung,Dies & Das,Kultur
ATTACH;FMTTYPE=image/jpeg:https://dorfverein-menz.de/wp-content/uploads/2023/12/Weihnachtsbaum_2023-8-e1703331558301.jpg
END:VEVENT
BEGIN:VEVENT
DTSTART;TZID=Europe/Berlin:20261121T190000
DTEND;TZID=Europe/Berlin:20261121T210000
DTSTAMP:20260420T143440
CREATED:20260203T154841Z
LAST-MODIFIED:20260203T154841Z
UID:12339-1795287600-1795294800@dorfverein-menz.de
SUMMARY:Klubkino: Film wird noch bekannt gegeben!
DESCRIPTION:
URL:https://dorfverein-menz.de/event/klubkino-film-wird-noch-bekannt-gegeben-6/
LOCATION:Heimatschule Menz\, Schulplatz 1\, Stechlin-Menz\, 16775\, Deutschland
CATEGORIES:Dorfkino
ATTACH;FMTTYPE=image/jpeg:https://dorfverein-menz.de/wp-content/uploads/2019/01/Heimatschule_kklein-6.jpg
END:VEVENT
BEGIN:VEVENT
DTSTART;TZID=Europe/Berlin:20261127T190000
DTEND;TZID=Europe/Berlin:20261127T210000
DTSTAMP:20260420T143440
CREATED:20260202T173630Z
LAST-MODIFIED:20260202T173630Z
UID:12285-1795806000-1795813200@dorfverein-menz.de
SUMMARY:Literarisches Kabinett - Thema wird noch bekannt gegeben!
DESCRIPTION:
URL:https://dorfverein-menz.de/event/literarisches-kabinett-thema-wird-noch-bekannt-gegeben-7/
LOCATION:Heimatschule Menz\, Schulplatz 1\, Stechlin-Menz\, 16775\, Deutschland
CATEGORIES:Kultur,Literatur
ATTACH;FMTTYPE=image/jpeg:https://dorfverein-menz.de/wp-content/uploads/2018/12/Bücher-1.jpg
END:VEVENT
BEGIN:VEVENT
DTSTART;TZID=Europe/Berlin:20261128T170000
DTEND;TZID=Europe/Berlin:20261128T190000
DTSTAMP:20260420T143440
CREATED:20260207T151330Z
LAST-MODIFIED:20260207T151330Z
UID:12441-1795885200-1795892400@dorfverein-menz.de
SUMMARY:Weihnachtsbaumleuchten auf dem Schulplatz!
DESCRIPTION:Auch in diesem Jahr wird am Vorabend des 1. Advent erstmalig der Weihnachtsbaum auf dem Schulplatz beleuchtet! \nGemeinsam singen wir Advents- und Weihnachtlieder!  \nFür das leibliche Wohl ist gesorgt. 
URL:https://dorfverein-menz.de/event/weihnachtsbaumleuchten-auf-dem-schulplatz-2/
LOCATION:Schulplatz\, Schulplatz\, Menz\, Brandenburg\, 16775\, Deutschland
CATEGORIES:Alt & Jung
ATTACH;FMTTYPE=image/jpeg:https://dorfverein-menz.de/wp-content/uploads/2023/12/20231202_170151-scaled.jpg
END:VEVENT
BEGIN:VEVENT
DTSTART;TZID=Europe/Berlin:20261204T190000
DTEND;TZID=Europe/Berlin:20261204T210000
DTSTAMP:20260420T143440
CREATED:20260203T160040Z
LAST-MODIFIED:20260203T160040Z
UID:12357-1796410800-1796418000@dorfverein-menz.de
SUMMARY:Rommé\, Skat und Co.
DESCRIPTION:
URL:https://dorfverein-menz.de/event/romme-skat-und-co-30/
LOCATION:Heimatschule Menz\, Schulplatz 1\, Stechlin-Menz\, 16775\, Deutschland
CATEGORIES:Alt & Jung
ATTACH;FMTTYPE=image/jpeg:https://dorfverein-menz.de/wp-content/uploads/2019/01/Heimatschule_kklein-6.jpg
END:VEVENT
BEGIN:VEVENT
DTSTART;TZID=Europe/Berlin:20261205T160000
DTEND;TZID=Europe/Berlin:20261205T210000
DTSTAMP:20260420T143440
CREATED:20260202T172544Z
LAST-MODIFIED:20260202T172544Z
UID:12270-1796486400-1796504400@dorfverein-menz.de
SUMMARY:Die Experimentierküche - Weihnachtsbäckerei!
DESCRIPTION:
URL:https://dorfverein-menz.de/event/die-experimentierkueche-weihnachtsbaeckerei/
LOCATION:Heimatschule Menz\, Schulplatz 1\, Stechlin-Menz\, 16775\, Deutschland
CATEGORIES:Dorfküche
ATTACH;FMTTYPE=image/jpeg:https://dorfverein-menz.de/wp-content/uploads/2023/12/DSC02188_k.jpg
END:VEVENT
BEGIN:VEVENT
DTSTART;TZID=Europe/Berlin:20261208T190000
DTEND;TZID=Europe/Berlin:20261208T203000
DTSTAMP:20260420T143440
CREATED:20260202T175510Z
LAST-MODIFIED:20260202T175510Z
UID:12313-1796756400-1796761800@dorfverein-menz.de
SUMMARY:Offene Menzer Singgruppe: Advents- und Weihnachtslieder
DESCRIPTION:
URL:https://dorfverein-menz.de/event/offene-menzer-singgruppe-advents-und-weihnachtslieder-6/
LOCATION:Heimatschule Menz\, Schulplatz 1\, Stechlin-Menz\, 16775\, Deutschland
CATEGORIES:Alt & Jung
ATTACH;FMTTYPE=image/jpeg:https://dorfverein-menz.de/wp-content/uploads/2023/12/Weihnachtsbaum_2023-8-e1703331558301.jpg
END:VEVENT
BEGIN:VEVENT
DTSTART;TZID=Europe/Berlin:20261211T180000
DTEND;TZID=Europe/Berlin:20261211T200000
DTSTAMP:20260420T143440
CREATED:20260203T160914Z
LAST-MODIFIED:20260203T160914Z
UID:12373-1797012000-1797019200@dorfverein-menz.de
SUMMARY:Offener Stammtisch
DESCRIPTION:
URL:https://dorfverein-menz.de/event/offener-stammtisch-20/
LOCATION:Heimatschule Menz\, Schulplatz 1\, Stechlin-Menz\, 16775\, Deutschland
CATEGORIES:Alt & Jung
ATTACH;FMTTYPE=image/jpeg:https://dorfverein-menz.de/wp-content/uploads/2019/01/Heimatschule_kklein-6.jpg
END:VEVENT
BEGIN:VEVENT
DTSTART;TZID=Europe/Berlin:20261216T190000
DTEND;TZID=Europe/Berlin:20261216T210000
DTSTAMP:20260420T143440
CREATED:20260203T154208Z
LAST-MODIFIED:20260203T154208Z
UID:12327-1797447600-1797454800@dorfverein-menz.de
SUMMARY:Dorfkino: Film wird noch bekannt gegeben!
DESCRIPTION:
URL:https://dorfverein-menz.de/event/dorfkino-film-wird-noch-bekannt-gegeben-7/
LOCATION:Heimatschule Menz\, Schulplatz 1\, Stechlin-Menz\, 16775\, Deutschland
CATEGORIES:Dorfkino
ATTACH;FMTTYPE=image/jpeg:https://dorfverein-menz.de/wp-content/uploads/2019/01/Heimatschule_kklein-6.jpg
END:VEVENT
BEGIN:VEVENT
DTSTART;TZID=Europe/Berlin:20261218T190000
DTEND;TZID=Europe/Berlin:20261218T210000
DTSTAMP:20260420T143440
CREATED:20260203T162635Z
LAST-MODIFIED:20260203T162635Z
UID:12389-1797620400-1797627600@dorfverein-menz.de
SUMMARY:Spieleabend “EiNFach Mal AndERs“
DESCRIPTION:
URL:https://dorfverein-menz.de/event/spieleabend-einfach-mal-anders-26/
LOCATION:Heimatschule Menz\, Schulplatz 1\, Stechlin-Menz\, 16775\, Deutschland
CATEGORIES:Alt & Jung
ATTACH;FMTTYPE=image/jpeg:https://dorfverein-menz.de/wp-content/uploads/2019/01/Heimatschule_kklein-6.jpg
END:VEVENT
BEGIN:VEVENT
DTSTART;TZID=Europe/Berlin:20261219T190000
DTEND;TZID=Europe/Berlin:20261219T210000
DTSTAMP:20260420T143440
CREATED:20260203T154929Z
LAST-MODIFIED:20260203T154929Z
UID:12341-1797706800-1797714000@dorfverein-menz.de
SUMMARY:Klubkino: Film wird noch bekannt gegeben!
DESCRIPTION:
URL:https://dorfverein-menz.de/event/klubkino-film-wird-noch-bekannt-gegeben-7/
LOCATION:Heimatschule Menz\, Schulplatz 1\, Stechlin-Menz\, 16775\, Deutschland
CATEGORIES:Dorfkino
ATTACH;FMTTYPE=image/jpeg:https://dorfverein-menz.de/wp-content/uploads/2019/01/Heimatschule_kklein-6.jpg
END:VEVENT
BEGIN:VEVENT
DTSTART;TZID=Europe/Berlin:20270101T170000
DTEND;TZID=Europe/Berlin:20270101T190000
DTSTAMP:20260420T143440
CREATED:20260203T163327Z
LAST-MODIFIED:20260203T163327Z
UID:12391-1798822800-1798830000@dorfverein-menz.de
SUMMARY:Neujahrskino: Der film wird noch bekannt gegeben!
DESCRIPTION:
URL:https://dorfverein-menz.de/event/neujahrskino-der-film-wird-noch-bekannt-gegeben/
LOCATION:Heimatschule Menz\, Schulplatz 1\, Stechlin-Menz\, 16775\, Deutschland
CATEGORIES:Dorfkino
ATTACH;FMTTYPE=image/jpeg:https://dorfverein-menz.de/wp-content/uploads/2021/07/Dorfkino-1-2.jpg
END:VEVENT
END:VCALENDAR