BEGIN:VCALENDAR
VERSION:2.0
PRODID:-//Dorfverein Menz - ECPv6.15.18//NONSGML v1.0//EN
CALSCALE:GREGORIAN
METHOD:PUBLISH
X-WR-CALNAME:Dorfverein Menz
X-ORIGINAL-URL:https://dorfverein-menz.de
X-WR-CALDESC:Veranstaltungen für Dorfverein Menz
REFRESH-INTERVAL;VALUE=DURATION:PT1H
X-Robots-Tag:noindex
X-PUBLISHED-TTL:PT1H
BEGIN:VTIMEZONE
TZID:Europe/Berlin
BEGIN:DAYLIGHT
TZOFFSETFROM:+0100
TZOFFSETTO:+0200
TZNAME:CEST
DTSTART:20250330T010000
END:DAYLIGHT
BEGIN:STANDARD
TZOFFSETFROM:+0200
TZOFFSETTO:+0100
TZNAME:CET
DTSTART:20251026T010000
END:STANDARD
BEGIN:DAYLIGHT
TZOFFSETFROM:+0100
TZOFFSETTO:+0200
TZNAME:CEST
DTSTART:20260329T010000
END:DAYLIGHT
BEGIN:STANDARD
TZOFFSETFROM:+0200
TZOFFSETTO:+0100
TZNAME:CET
DTSTART:20261025T010000
END:STANDARD
BEGIN:DAYLIGHT
TZOFFSETFROM:+0100
TZOFFSETTO:+0200
TZNAME:CEST
DTSTART:20270328T010000
END:DAYLIGHT
BEGIN:STANDARD
TZOFFSETFROM:+0200
TZOFFSETTO:+0100
TZNAME:CET
DTSTART:20271031T010000
END:STANDARD
END:VTIMEZONE
BEGIN:VEVENT
DTSTART;TZID=Europe/Berlin:20260414T190000
DTEND;TZID=Europe/Berlin:20260414T210000
DTSTAMP:20260420T132338
CREATED:20251109T101443Z
LAST-MODIFIED:20251109T101443Z
UID:12064-1776193200-1776200400@dorfverein-menz.de
SUMMARY:Offene Menzer Singgruppe: Volkslieder und andere Lieder
DESCRIPTION:Offene Menzer Singgruppe: Volkslieder und andere Lieder
URL:https://dorfverein-menz.de/event/offene-menzer-singgruppe-volkslieder-und-andere-lieder-13/
LOCATION:Heimatschule Menz\, Schulplatz 1\, Stechlin-Menz\, 16775\, Deutschland
CATEGORIES:Alt & Jung,Kultur
ATTACH;FMTTYPE=image/jpeg:https://dorfverein-menz.de/wp-content/uploads/2019/01/Heimatschule_kklein-4.jpg
END:VEVENT
END:VCALENDAR